Workbook

Sheet Титул (9 месяцев)
I2: УТВЕРЖДАЮ
I4: Генеральный директор
I5: ООО «Компания»
J7: / | K7: Иванов А.А. | L7: /
H8: (подпись) | K8: (расшифровка подписи)
K9: __________________20__ г.
K11: М.П.
F20: Журнал
D21: учета в области обращения с отходами
G23: январь-сентябрь | H23: 20__ года
B26: (в соответствии с Приказом Минприроды России от 08.12.2020 N 1028 "Об утверждении Порядка учета в области обращения с отходами")
B28: Общество с ограниченной ответственностью «Компания»
C29: (наименование юридического лица или Ф.И.О. индивидуального предпринимателя)
C32: (наименование территориально обособленного подразделения (филиала))
E51: г. Москва
E52: (место расположения (город, поселок))
F54: 20__ год

Sheet Приложение 1(общий)
E1: Приложение № 1
D2: к Порядку учета в области обращения с отходами, утвержденному
D3: приказом Минприроды России от 08.12.2020 N 1028
B5: Перечнь образующихся видов отходов, подлежащих учету
A7: Таблица 1 - Перечень образующихся видов отходов, подлежащих учету
A9: № п/п | B9: Наименование вида отходов | C9: Код по ФККО | D9: Класс опасности вида отходов | E9: Происхождение или условия образования видов отхода | F9: Агрегатное состояние и физическая форма вида отхода | G9: Химический и (или) компонентный состав вида отхода, %
A10: 1 | B10: 2 | C10: 3 | D10: 4 | E10: 5 | F10: 6 | G10: 7
A11: 1 | B11: Мусор от офисных и бытовых помещений организаций несортированный (исключая крупногабаритный) | C11: 7 33 100 01 72 4 | D11: 4 | E11: чистка и уборка нежилых помещений | F11: смесь твердых материалов (включая волокна) и изделий | G11: Бумага (целлюлоза) - 43,0%; Полипропилен - 16,5%; Полиэтилен - 8,6%; Керамика - 5,6%; Кремния диоксид (песок) - 5,2%; Стекло - 4,3%; Отходы природного органического происхождения (пищевые отходы) - 3,9%; Текстиль х/б (целлюлоза) - 3,8%; Каучук синтетический (резина) - 3,8%; Древесина (целлюлоза) - 3,5%; Лом черных металлов (железо) - 1,8%
A12: 2 | B12: Мусор и смет производственных помещений малоопасный | C12: 7 33 210 01 72 4 | D12: 4 | E12: чистка и уборка производственных помещений | F12: cмесь твердых материалов (включая волокна) и изделия | G12: Песок (диоксид кремния) - 47,2%; Бумага - 16,195%, Древесина - 12,35%; Полимерные материалы (полиэтилен) - 5,8%; Нефтепродукты - 4,745%; Резина - 4,3%; Текстиль х/б - 3,8%; Стекло - 3,11%; Лом черных металлов(железо) - 1,2%; Оксид магния (по магнию) - 0,7%; Оксид кальция (по кальцию) - 0,6%
A13: 3 | B13: Смет с территории предприятия малоопасный | C13: 7 33 390 01 71 4 | D13: 4 | E13: подметание территории предприятия | F13: смесь твердых материалов (включая волокна) | G13: Кремний диоксид - 61,2%; Полиэтилен - 17,4%; Растительные остатки - 10,1%; Бумага - 5,9%; Стекло - 2,1%; Влажность (вода) - 1,5%; Алюминий оксид (по алюминию) - 0,8%; Железа оксид (по железу) - 0,7%; Магния оксид (по магнию) - 0,3%
A14: 4 | B14: Обтирочный материал, загрязненный нефтью или нефтепродуктами (содержащий нефти или нефтепродукты менее 15%) | C14: 9 19 204 02 60 4 | D14: 4 | E14: обслуживание машин и оборудования | F14: изделия из волокон | G14: Текстиль - 82,34%; Нефтепродукты - 10,62%; Песок (диоксид кремния) - 5,65%; Влажность(вода) - 1,39%
A15: 5 | B15: Отходы упаковочного картона незагрязненные | C15: 4 05 183 01 60 5 | D15: 5 | E15: использование по назначению с утратой потребительских свойств | F15: изделия из волокон | G15: Картон (целлюлоза) - 99,4%; Песок (кремния диоксид) - 0,6%
A16: 6 | B16: Отходы пленки полиэтилена и изделий из нее незагрязненные | C16: 4 34 110 02 29 5 | D16: 5 | E16: транспортирование, хранение, использование по назначению с утратой потребительских свойств | F16: прочие формы твердых веществ | G16: Полиэтилен - 98,7%; Песок (кремния диоксид) - 1,3%
A17: 7 | B17: Лом и отходы, содержащие незагрязненные черные металлы в виде изделий, кусков, несортированные | C17: 4 61 010 01 20 5 | D17: 5 | E17: обращение с черными металлами и продукцией из них, приводящее к утрате ими потребительских свойств | F17: твердое | G17: Лом черных металлов (железо) - 97,19%; Оксид железа (по железу) - 2,3%; Кремния диоксид (песок) - 0,49%
B19: Ответственный исполнитель | G19: Дата
C20: подпись | D20: ФИО

Sheet Приложение 2 (9 месяцев) 
O1: Приложение № 2
M2: к Порядку учета в области обращения с отходами, утвержденном
M3: приказом Минприроды России от 08.12.2020 N 1028
F5: Обобщенные данные учета в области обращения с отходами за | M5: ='Титул (9 месяцев)'!G23 -> январь-сентябрь | N5: 20__ г.
M6: (квартал, год)
A7: Таблица 2 - Обобщенные данные учета в области обращения с отходами
A9: Номер строки | B9: Наименование вида отходов | C9: Код по ФККО | D9: Класс опасности вида отхода | E9: Наличие отходов на начало отчетного периода, тонн | G9: Образовано отходов в отчетном периоде, тонн | H9: Получено отходов от других лиц в отчетном периоде, тонн | I9: Обработано отходов в отчетном периоде, тонн | J9: Утилизировано отходов в отчетном периоде, тонн | K9: Обезврежено отходов в отчетном периоде, тонн | L9: Передано отходов за отчетный период, тонн | M9: Размещено отходов на эксплуатируемых объектах в отчетном периоде, тонн | P9: Наличие отходов на конец отчетного периода, тонн
E10: Хранение | F10: Накопление | M10: Всего | N10: Хранение | O10: Захоронение | P10: Хранение | Q10: Накопление
A11: А | B11: 1 | C11: 2 | D11: 3 | E11: 4 | F11: 5 | G11: =F11+1 -> 6 | H11: =G11+1 -> 7 | I11: =H11+1 -> 8 | J11: =I11+1 -> 9 | K11: =J11+1 -> 10 | L11: =K11+1 -> 11 | M11: =L11+1 -> 12 | N11: =M11+1 -> 13 | ... Q11: =P11+1 -> 16
A12: 1 | B12: ='Приложение 1(общий)'!B11 -> Мусор от офисных и бытовых помещений организаций несортированный (исключая крупногабаритный) | C12: ='Приложение 1(общий)'!C11 -> 7 33 100 01 72 4 | D12: 4 | E12: 0 | F12: 0 | G12: 2.598 | H12: 0 | I12: 0 | J12: 0 | K12: 0 | L12: =G12 -> 2.598 | M12: 0 | N12: 0 | O12: 0 | P12: 0 | Q12: 0
A13: 2 | B13: ='Приложение 1(общий)'!B12 -> Мусор и смет производственных помещений малоопасный | C13: ='Приложение 1(общий)'!C12 -> 7 33 210 01 72 4 | D13: 4 | E13: 0 | F13: 0 | G13: 0.11 | H13: 0 | I13: 0 | J13: 0 | K13: 0 | L13: =G13 -> 0.11 | M13: 0 | N13: 0 | O13: 0 | P13: 0 | Q13: 0
A14: 3 | B14: ='Приложение 1(общий)'!B13 -> Смет с территории предприятия малоопасный | C14: ='Приложение 1(общий)'!C13 -> 7 33 390 01 71 4 | D14: 4 | E14: 0 | F14: 0 | G14: 0.155 | H14: 0 | I14: 0 | J14: 0 | K14: 0 | L14: =G14 -> 0.155 | M14: 0 | N14: 0 | O14: 0 | P14: 0 | Q14: 0
A15: 4 | B15: ='Приложение 1(общий)'!B14 -> Обтирочный материал, загрязненный нефтью или нефтепродуктами (содержащий нефти или нефтепродукты менее 15%) | C15: ='Приложение 1(общий)'!C14 -> 9 19 204 02 60 4 | D15: 4 | E15: 0 | F15: 0 | G15: 0 | H15: 0 | I15: 0 | J15: 0 | K15: 0 | L15: 0 | M15: 0 | N15: 0 | O15: 0 | P15: 0 | Q15: =F15+G15 -> 0
A16: 5 | B16: ='Приложение 1(общий)'!B15 -> Отходы упаковочного картона незагрязненные | C16: ='Приложение 1(общий)'!C15 -> 4 05 183 01 60 5 | D16: 5 | E16: 0 | F16: 0 | G16: 0.87 | H16: 0 | I16: 0 | J16: 0 | K16: 0 | L16: =G16 -> 0.87 | M16: 0 | N16: 0 | O16: 0 | P16: 0 | Q16: 0
A17: 6 | B17: ='Приложение 1(общий)'!B16 -> Отходы пленки полиэтилена и изделий из нее незагрязненные | C17: ='Приложение 1(общий)'!C16 -> 4 34 110 02 29 5 | D17: 5 | E17: 0 | F17: 0 | G17: 0 | H17: 0 | I17: 0 | J17: 0 | K17: 0 | L17: =G17 -> 0 | M17: 0 | N17: 0 | O17: 0 | P17: 0 | Q17: 0
A18: 7 | B18: ='Приложение 1(общий)'!B17 -> Лом и отходы, содержащие незагрязненные черные металлы в виде изделий, кусков, несортированные | C18: ='Приложение 1(общий)'!C17 -> 4 61 010 01 20 5 | D18: 5 | E18: 0 | F18: 0 | G18: 0 | H18: 0 | I18: 0 | J18: 0 | K18: 0 | L18: =G18 -> 0 | M18: 0 | N18: 0 | O18: 0 | P18: 0 | Q18: 0
B20: Ответственный исполнитель | O20: Дата | P20: .
C21: подпись | F21: ФИО
G25: =SUM(G12:G18) -> 3.733 | L25: =SUM(L12:L18) -> 3.733

Sheet Таблица 3 (9 месяцев)  
K1: Приложение № 3
K2: к Порядку учета в области обращения с отходами, утвержденном
K3: приказом Минприроды России от 08.12.2020 N 1028
C5: Данные учета переданных другим лицам или полученных от других лиц отходов за | L5: ='Титул (9 месяцев)'!G23 -> январь-сентябрь | M5: 20__ | N5: г.
L6: (квартал, год)
A7: Таблица 3 - Обобщенные данные учета в области обращения с отходами
A9: № п/п | B9: Наименование вида отходов | C9: Код по ФККО | D9: Класс опасности вида отхода | E9: Количество переданных отходов за отчетный период, тонн | K9: Сведения о лицах, которым переданы отходы | L9: Дата и номер договора на передачу отходов | M9: Срок действия договора | N9: Реквизиты лицензии на осуществление деятельности по сбору, транспортированию, обработке, утилизации, обезвреживанию, размещению отходов I-IV классов опасности
E10: всего | F10: для обработки | G10: для утилизации | H10: для обезвреживания | I10: для хранения | J10: для захоронения
A11: 1 | B11: 2 | C11: 3 | D11: 4 | E11: 5 | F11: =E11+1 -> 6 | G11: =F11+1 -> 7 | H11: =G11+1 -> 8 | I11: =H11+1 -> 9 | J11: =I11+1 -> 10 | K11: 11 | L11: 12 | M11: 13 | N11: 14
A12: 1 | B12: ='Приложение 1(общий)'!B11 -> Мусор от офисных и бытовых помещений организаций несортированный (исключая крупногабаритный) | C12: ='Приложение 1(общий)'!C11 -> 7 33 100 01 72 4 | D12: 4 | E12: ='Приложение 2 (9 месяцев) '!G12 -> 2.598 | F12: 0 | G12: 0 | H12: 0 | I12: 0 | J12: ='Приложение 2 (9 месяцев) '!G12 -> 2.598 | K12: ООО "КОМПАНИЯ", ИНН _____, юридический адрес | L12: № | M12: 31.12.2025г. | N12: Лицензия
A13: 2 | B13: ='Приложение 1(общий)'!B12 -> Мусор и смет производственных помещений малоопасный | C13: ='Приложение 1(общий)'!C12 -> 7 33 210 01 72 4 | D13: 4 | E13: ='Приложение 2 (9 месяцев) '!G13 -> 0.11 | F13: 0 | G13: =E13 -> 0.11 | H13: 0 | I13: 0 | J13: 0 | K13: ООО "КОМПАНИЯ", ИНН _____, юридический адрес | L13: № | M13: 31.12.2025г. | N13: Лицензия
K14: ООО "КОМПАНИЯ", ИНН _____, юридический адрес | L14: № | M14: 31.12.2025г. | N14: Лицензия
A15: 3 | B15: ='Приложение 1(общий)'!B13 -> Смет с территории предприятия малоопасный | C15: ='Приложение 1(общий)'!C13 -> 7 33 390 01 71 4 | D15: 4 | E15: ='Приложение 2 (9 месяцев) '!G14 -> 0.155 | F15: 0 | G15: =E15 -> 0.155 | H15: 0 | I15: 0 | J15: 0 | K15: ООО "КОМПАНИЯ", ИНН _____, юридический адрес | L15: № | M15: 31.12.2025г. | N15: Лицензия
K16: ООО "КОМПАНИЯ", ИНН _____, юридический адрес | L16: № | M16: 31.12.2025г. | N16: Лицензия
A17: 4 | B17: ='Приложение 1(общий)'!B14 -> Обтирочный материал, загрязненный нефтью или нефтепродуктами (содержащий нефти или нефтепродукты менее 15%) | C17: ='Приложение 1(общий)'!C14 -> 9 19 204 02 60 4 | D17: 4 | E17: 0 | F17: 0 | G17: 0 | H17: 0 | I17: 0 | J17: =E17 -> 0 | K17: ООО "КОМПАНИЯ", ИНН _____, юридический адрес | L17: № | M17: 31.12.2025г. | N17: Лицензия
K18: ООО "КОМПАНИЯ", ИНН _____, юридический адрес | L18: № | M18: 31.12.2025г. | N18: Лицензия
A19: 5 | B19: ='Приложение 1(общий)'!B15 -> Отходы упаковочного картона незагрязненные | C19: ='Приложение 1(общий)'!C15 -> 4 05 183 01 60 5 | D19: 5 | E19: ='Приложение 2 (9 месяцев) '!G16 -> 0.87 | F19: 0 | G19: =E19 -> 0.87 | H19: 0 | I19: 0 | J19: 0 | K19: ООО "КОМПАНИЯ", ИНН _____, юридический адрес | L19: № | M19: 31.12.2025г. | N19: Лицензия
K20: ООО "КОМПАНИЯ", ИНН _____, юридический адрес | L20: № | M20: 31.12.2025г. | N20: Лицензия
A21: 6 | B21: ='Приложение 1(общий)'!B16 -> Отходы пленки полиэтилена и изделий из нее незагрязненные | C21: ='Приложение 1(общий)'!C16 -> 4 34 110 02 29 5 | D21: 5 | E21: ='Приложение 2 (9 месяцев) '!G17 -> 0 | F21: 0 | G21: =E21 -> 0 | H21: 0 | I21: 0 | J21: 0 | K21: ООО "КОМПАНИЯ", ИНН _____, юридический адрес | L21: № | M21: 31.12.2025г. | N21: Лицензия
K22: ООО "КОМПАНИЯ", ИНН _____, юридический адрес | L22: № | M22: 31.12.2025г. | N22: Лицензия
A23: 7 | B23: ='Приложение 1(общий)'!B17 -> Лом и отходы, содержащие незагрязненные черные металлы в виде изделий, кусков, несортированные | C23: ='Приложение 1(общий)'!C17 -> 4 61 010 01 20 5 | D23: 5 | E23: ='Приложение 2 (9 месяцев) '!G18 -> 0 | F23: 0 | G23: ='Приложение 2 (9 месяцев) '!G18 -> 0 | H23: 0 | I23: 0 | J23: 0 | K23: ООО "КОМПАНИЯ", ИНН _____, юридический адрес | L23: № | M23: 31.12.2025г. | N23: Лицензия
B25: Ответственный исполнитель | M25: Дата | N25: ='Приложение 2 (9 месяцев) '!P20 -> .
C26: подпись | F26: ФИО
E30: =SUM(E12:E23) -> 3.733

Sheet  Таблица 4 (9 месяцев)
A2: Таблица 4 - Данные учета полученных от других лиц отходов
A4: № п/п | B4: Наименование вида отходов | C4: Код по ФККО | D4: Класс опасности вида отхода | E4: Количество полученных отходов, тонн | L4: Сведения о лицах, от которых получены отходы | M4: Дата и номер договора на передачу отходов | N4: Срок действия договора
E5: всего | F5: в том числе
F6: для накопления и последующей передачи другим индивидуальным предпринимателям и юридическим лицам | G6: для обработки | H6: для утилизации | I6: для обезвреживания | J6: для хранения | K6: для захоронения
A7: 1 | B7: 2 | C7: 3 | D7: 4 | E7: 5 | F7: 6 | G7: 7 | H7: =G7+1 -> 8 | I7: =H7+1 -> 9 | J7: =I7+1 -> 10 | K7: =J7+1 -> 11 | L7: 12 | M7: 13 | N7: 14
A8: - | B8: - | C8: - | D8: - | E8: - | F8: - | G8: - | H8: - | I8: - | J8: - | K8: - | L8: - | M8: - | N8: -
B10: Ответственный исполнитель | L10: Дата | M10: ='Приложение 2 (9 месяцев) '!P20 -> .
C11: подпись | F11: ФИО
